{"text_format":"1","workbook":"xlsx","n_sheets":2,"sheets":["Лист1","Лист2"],"not_rendered":{"charts":0,"images":0,"macros":1,"external_links":0,"defined_names":0,"comments":0,"pivot_tables":0},"unopened":[],"bounds":{"document_bytes":16777216,"sheet_cells":100000,"rows_first":2000,"rows_last":500,"rows_between":2000,"halvings":0,"cell_chars":16384,"cell_head_chars":4096},"cells_cut":0,"cells_raw":0,"read":"whole","date_system":"1900"}

{"sheet":"Лист1","index":0,"n_rows":9,"n_cols":3,"rows_kept":9,"cut":false,"hidden":false,"merged":[]}
[]
[]
[]
[]
["проставьте стоимость вещи",50,"юани"]
["стоимость доставки по китаю",3,"юани"]
[null,3]
[null,5]
["ИТОГО:",{"$f":"Лист2!G12","v":14.903460000000001},"$"]

{"sheet":"Лист2","index":1,"n_rows":72,"n_cols":12,"rows_kept":72,"cut":false,"hidden":true,"merged":[]}
[null,null,null,null,null,"стоимость",{"$f":"Лист1!B5","v":50}]
[null,null,null,null,null,null,"не знаю",null,"мужская"]
[1,"Женские вещи",null,null,null,null,"бесплатная",null,"женская"]
[2,"Мужские вещи",null,null,null,null,5,null,"детская"]
[3,"Детские вещи",null,null,null,null,10,null,"разное"]
[4,"Вес проставлю самостоятельно",null,null,null,null,15]
[null,null,null,null,null,null,20]
[null,null,null,null,null,null,{"$f":"Лист1!B6","v":3}]
[null,null,null,null,null,"доставка",{"$f":"IF(G8=1,15,IF(G8=2,0,IF(G8=3,5,IF(G8=4,10,IF(G8=5,15,IF(G8=6,20))))))","v":5}]
[null,null,null,null,null,"вес",{"$f":"D51","v":400},"грамм"]
[null,null,null,null,null,"курс",0.157]
[null,null,null,null,null,"итого",{"$f":"((G1+G9)*1.15*G11+G10/1000*11)*1.04","v":14.903460000000001},"$"]
[]
[]
[]
[]
[]
[]
[]
[]
[]
[]
[]
[]
[null,null,{"$f":"Лист1!B7","v":3}]
[null,null,"Примерный вес"]
[null,"Женские вещи: ",null,null,"мужские вещи",null,null,"детские вещи",null,null,"сам"]
[1,"Купальник",300,null,"Зимняя куртка длинная",1400,null,"Ботинки",600,null,"20 грамм",20]
[{"$f":"A28+1","v":2},"Сапоги",800,null,"Зимняя куртка короткая",800,null,"Ветровки",500,null,"50 грамм",50]
[{"$f":"A29+1","v":3},"Босоножки/сланцы",500,null,"Спортивный костюм",700,null,"Водолазки",250,null,"100 грамм",100]
[4,"Кроссовки",500,null,"Джемпер",400,null,"Джемпера",400,null,"150 грамм",150]
[5,"Угги",1000,null,"Пиджак",550,null,"Комбинезоны джинсовые",400,null,"200 грамм",200]
[6,"Туфли",600,null,"Рубашка",200,null,"Комбинезоны трикотажные",250,null,"250 грамм",250]
[7,"Зимняя куртка короткая",600,null,"Галстук",200,null,"Кроссовки детские",600,null,"300 грамм",300]
[8,"Зимняя куртка длинная",1000,null,"Футболка/майка",200,null,"Куртки демисезонные длинные",650,null,"400 грамм",400]
[9,"Спортивный костюм",600,null,"Джинсы",700,null,"Куртки демисезонные короткие",500,null,"500 грамм",500]
[10,"Шорты",300,null,"Брюки",500,null,"Пальто",1000,null,"600 грамм",600]
[11,"Брюки",400,null,"Шорты трикотажные",350,null,"Полупальто",600,null,"700 грамм",700]
[12,"Джинсы",600,null,"Шорты джинсовые",500,null,"Шорты",150,null,"800 грамм",800]
[13,"Бриджи",350,null,"Бриджи",350,null,"Песочники, боди, футболки",100,null,"900 грамм",900]
[14,"Джемпер",400,null,"Туфли",800,null,"Пуховики",700,null,"1 кг",1000]
[15,"Пиджак",500,null,"Кроссовки",800,null,"Сандалии",600,null,"2 кг",{"$f":"1000+L41","v":2000}]
[16,"Юбка",400,null,"Сланцы кожаные",600,null,"Сапоги",900,null,"3 кг",{"$f":"1000+L42","v":3000}]
[17,"Платье",300,null,"Ботинки",950,null,"Угги",900,null,"4 кг",4000]
[18,"Рубашка/Футболка/Майка",200,null,"Шапки",300,null,"Шапки легкие",100,null,"5 кг",5000]
[19,"Халат",400,null,"Мужская пижама",400,null,"Шапки шерстяные",150,null,"6 кг",6000]
[20,"Пижама женская",300,null,"Толстовка",600,null,"Юбки",300,null,"7 кг",7000]
[21,"Шубы",1500,null,"Трусы",100,null,"Платья",300,null,"8 кг",8000]
[]
[]
[null,null,{"$f":"Лист1!B8","v":5},{"$f":"SUM(D52:D72)","v":400}]
[1,{"$f":"IF($C$25=1,B28,IF($C$25=2,E28,IF($C$25=3,H28,IF($C$25=4,K28,\"УПС\"))))","v":"Ботинки"},{"$f":"IF($C$25=1,C28,IF($C$25=2,F28,IF($C$25=3,I28,IF($C$25=4,L28,\"УПС\"))))","v":600},{"$f":"IF(A52=C$51,C52,0)","v":0}]
[{"$f":"1+A52","v":2},{"$f":"IF($C$25=1,B29,IF($C$25=2,E29,IF($C$25=3,H29,IF($C$25=4,K29,\"УПС\"))))","v":"Ветровки"},500,{"$f":"IF(A53=C$51,C53,0)","v":0}]
[{"$f":"1+A53","v":3},{"$f":"IF($C$25=1,B30,IF($C$25=2,E30,IF($C$25=3,H30,IF($C$25=4,K30,\"УПС\"))))","v":"Водолазки"},250,0]
[4,{"$f":"IF($C$25=1,B31,IF($C$25=2,E31,IF($C$25=3,H31,IF($C$25=4,K31,\"УПС\"))))","v":"Джемпера"},400,0]
[5,{"$f":"IF($C$25=1,B32,IF($C$25=2,E32,IF($C$25=3,H32,IF($C$25=4,K32,\"УПС\"))))","v":"Комбинезоны джинсовые"},400,400]
[6,{"$f":"IF($C$25=1,B33,IF($C$25=2,E33,IF($C$25=3,H33,IF($C$25=4,K33,\"УПС\"))))","v":"Комбинезоны трикотажные"},250,0]
[7,{"$f":"IF($C$25=1,B34,IF($C$25=2,E34,IF($C$25=3,H34,IF($C$25=4,K34,\"УПС\"))))","v":"Кроссовки детские"},600,0]
[8,{"$f":"IF($C$25=1,B35,IF($C$25=2,E35,IF($C$25=3,H35,IF($C$25=4,K35,\"УПС\"))))","v":"Куртки демисезонные длинные"},650,0]
[9,{"$f":"IF($C$25=1,B36,IF($C$25=2,E36,IF($C$25=3,H36,IF($C$25=4,K36,\"УПС\"))))","v":"Куртки демисезонные короткие"},500,0]
[10,{"$f":"IF($C$25=1,B37,IF($C$25=2,E37,IF($C$25=3,H37,IF($C$25=4,K37,\"УПС\"))))","v":"Пальто"},1000,0]
[11,{"$f":"IF($C$25=1,B38,IF($C$25=2,E38,IF($C$25=3,H38,IF($C$25=4,K38,\"УПС\"))))","v":"Полупальто"},600,0]
[12,{"$f":"IF($C$25=1,B39,IF($C$25=2,E39,IF($C$25=3,H39,IF($C$25=4,K39,\"УПС\"))))","v":"Шорты"},150,0]
[13,{"$f":"IF($C$25=1,B40,IF($C$25=2,E40,IF($C$25=3,H40,IF($C$25=4,K40,\"УПС\"))))","v":"Песочники, боди, футболки"},100,0]
[14,{"$f":"IF($C$25=1,B41,IF($C$25=2,E41,IF($C$25=3,H41,IF($C$25=4,K41,\"УПС\"))))","v":"Пуховики"},700,0]
[15,{"$f":"IF($C$25=1,B42,IF($C$25=2,E42,IF($C$25=3,H42,IF($C$25=4,K42,\"УПС\"))))","v":"Сандалии"},600,0]
[16,{"$f":"IF($C$25=1,B43,IF($C$25=2,E43,IF($C$25=3,H43,IF($C$25=4,K43,\"УПС\"))))","v":"Сапоги"},900,0]
[17,{"$f":"IF($C$25=1,B44,IF($C$25=2,E44,IF($C$25=3,H44,IF($C$25=4,K44,\"УПС\"))))","v":"Угги"},900,0]
[18,{"$f":"IF($C$25=1,B45,IF($C$25=2,E45,IF($C$25=3,H45,IF($C$25=4,K45,\"УПС\"))))","v":"Шапки легкие"},100,0]
[19,{"$f":"IF($C$25=1,B46,IF($C$25=2,E46,IF($C$25=3,H46,IF($C$25=4,K46,\"УПС\"))))","v":"Шапки шерстяные"},150,0]
[20,{"$f":"IF($C$25=1,B47,IF($C$25=2,E47,IF($C$25=3,H47,IF($C$25=4,K47,\"УПС\"))))","v":"Юбки"},300,0]
[21,{"$f":"IF($C$25=1,B48,IF($C$25=2,E48,IF($C$25=3,H48,IF($C$25=4,K48,\"УПС\"))))","v":"Платья"},300,0]